BEGIN:VCALENDAR
VERSION:2.0
PRODID:-//Єврейський Культурний Центр “Бейт Дан” - ECPv6.15.13.1//NONSGML v1.0//EN
CALSCALE:GREGORIAN
METHOD:PUBLISH
X-ORIGINAL-URL:https://beitdan.org.ua
X-WR-CALDESC:Події за Єврейський Культурний Центр “Бейт Дан”
REFRESH-INTERVAL;VALUE=DURATION:PT1H
X-Robots-Tag:noindex
X-PUBLISHED-TTL:PT1H
BEGIN:VTIMEZONE
TZID:Europe/Moscow
BEGIN:STANDARD
TZOFFSETFROM:+0300
TZOFFSETTO:+0300
TZNAME:MSK
DTSTART:20200101T000000
END:STANDARD
END:VTIMEZONE
BEGIN:VEVENT
DTSTART;TZID=Europe/Moscow:20211120T110000
DTEND;TZID=Europe/Moscow:20211120T120000
DTSTAMP:20260422T233547
CREATED:20211116T131237Z
LAST-MODIFIED:20211116T132123Z
UID:3066-1637406000-1637409600@beitdan.org.ua
SUMMARY:Інтерактивне свято "Лісова казка" для дітей 3-6 років.
DESCRIPTION:А що ж такого чудового відбувається восени в лісі? Хочете потрапити зі своїм малюком у казку????\nДля дітей 3-6 років ми підготували міні-свято з інтерактивними іграми\, аніматорами і звичайно ж – подарунками і великими кулями.\nУ суботу 20 листопада об 11 годині ми чекаємо на Вас та Вашу дитину за адресою – ?Тобольська\, 46.\nМатусі\, не хвилюйтеся – кількість місць всього 10\, а значить кожній дитині приділять увагу.\nКостюми звірят-вітаються??\nУчасть у святі – платна.\nДетальніше? на ресепшн 093-311-31-50.\nДо зустрічі в Бейт Дані ?
URL:https://beitdan.org.ua/calendar/interaktyvne-svyato-lisova-kazka-dlya-ditej-3-6-rokiv/
CATEGORIES:Дитячі заходи
ATTACH;FMTTYPE=image/jpeg:https://beitdan.org.ua/wp-content/uploads/2021/11/will-you-play-5-scaled.jpg
END:VEVENT
BEGIN:VEVENT
DTSTART;TZID=Europe/Moscow:20211126T150000
DTEND;TZID=Europe/Moscow:20211128T170000
DTSTAMP:20260422T233547
CREATED:20211112T092559Z
LAST-MODIFIED:20211112T093720Z
UID:2971-1637938800-1638118800@beitdan.org.ua
SUMMARY:Регіональний передханукальний Шабатон для підлітків
DESCRIPTION:Відкрито реєстрацію на регіональний передханукальний Шабатон для підлітків! \nЗапрошуємо підлітків 26-28 листопада до базі Karnaval Resort & SPA! \n Через два роки Харківський регіон знову збереться\, щоб провести шабат разом та підготується до свята Ханука!!! \nУмови участі:\n– 13-17 років\n– Проїзд до Харкова та назад за свій рахунок\n– Наявність негативного ПЛР або експрес-тесту\n– пайова участь – 500 грн \nУсі питання за телефоном +380966207940 – Дмитро \nРеєстрація: https://forms.gle/CCQWodkDUh1UxNVa8
URL:https://beitdan.org.ua/calendar/regionalnyj-peredhanukalnyj-shabaton-dlya-pidlitkiv/
CATEGORIES:Виїзні заходи,Для підлітків
ATTACH;FMTTYPE=image/jpeg:https://beitdan.org.ua/wp-content/uploads/2021/11/will-you-play-1-scaled.jpg
END:VEVENT
BEGIN:VEVENT
DTSTART;TZID=Europe/Moscow:20211128T120000
DTEND;TZID=Europe/Moscow:20211128T133000
DTSTAMP:20260422T233547
CREATED:20211116T142413Z
LAST-MODIFIED:20211116T142537Z
UID:3105-1638100800-1638106200@beitdan.org.ua
SUMMARY:Ханука для молодших школярів 6-12 років
DESCRIPTION:
URL:https://beitdan.org.ua/calendar/hanuka-dlya-molodshyh-shkolyariv-6-12-rokiv/
CATEGORIES:Дитячі заходи
ATTACH;FMTTYPE=image/jpeg:https://beitdan.org.ua/wp-content/uploads/2021/11/will-you-play-3-scaled.jpg
END:VEVENT
END:VCALENDAR