BEGIN:VCALENDAR
VERSION:2.0
PRODID:-//Єврейський Культурний Центр “Бейт Дан” - ECPv6.15.13.1//NONSGML v1.0//EN
CALSCALE:GREGORIAN
METHOD:PUBLISH
X-WR-CALNAME:Єврейський Культурний Центр “Бейт Дан”
X-ORIGINAL-URL:https://beitdan.org.ua
X-WR-CALDESC:Події за Єврейський Культурний Центр “Бейт Дан”
REFRESH-INTERVAL;VALUE=DURATION:PT1H
X-Robots-Tag:noindex
X-PUBLISHED-TTL:PT1H
BEGIN:VTIMEZONE
TZID:Europe/Moscow
BEGIN:STANDARD
TZOFFSETFROM:+0300
TZOFFSETTO:+0300
TZNAME:MSK
DTSTART:20200101T000000
END:STANDARD
END:VTIMEZONE
BEGIN:VEVENT
DTSTART;TZID=Europe/Moscow:20211217T110000
DTEND;TZID=Europe/Moscow:20211217T120000
DTSTAMP:20260422T215525
CREATED:20211130T132925Z
LAST-MODIFIED:20211214T114415Z
UID:3142-1639738800-1639742400@beitdan.org.ua
SUMMARY:Свято для дітей 2\,4-4 років "Крижана казка"
DESCRIPTION:Запрошуємо малят 2\,5-4 років і їхніх батьків 19 грудня на свято у “Крижану казку”. \nМильне шоу\, принцеса Ельза та сніговик Олаф\, багато ігор та подарунки. \nЗапис на ресепнш Центру -?093-311-31-50.
URL:https://beitdan.org.ua/calendar/svyato-dlya-ditej-24-4-rokiv-kryzhana-kazka/
CATEGORIES:Дитячі заходи
ATTACH;FMTTYPE=image/jpeg:https://beitdan.org.ua/wp-content/uploads/2021/12/hello-fashion-1-scaled.jpg
END:VEVENT
BEGIN:VEVENT
DTSTART;TZID=Europe/Moscow:20211229T160000
DTEND;TZID=Europe/Moscow:20211229T180000
DTSTAMP:20260422T215525
CREATED:20211130T133631Z
LAST-MODIFIED:20211214T114655Z
UID:3156-1640793600-1640800800@beitdan.org.ua
SUMMARY:Свято "Крижане шоу" для дітей 5-6 та 7-12 років
DESCRIPTION:Запрошуємо дітей 5-6 років та їхніх батьків\, а також школярів 7-12 років 26 грудня на свято – “Крижане шоу”.\n   Крижане шоу\, принцеса Ельза та сніговик Олаф\, багато ігор та подарунків.\nЗапис на ресепшн Центру – ?093-311-31-50.
URL:https://beitdan.org.ua/calendar/svyato-kryzhane-shou-dlya-ditej-5-6-ta-7-12-rokiv/
CATEGORIES:Дитячі заходи
ATTACH;FMTTYPE=image/jpeg:https://beitdan.org.ua/wp-content/uploads/2021/12/hello-fashion-1-scaled.jpg
END:VEVENT
END:VCALENDAR