BEGIN:VCALENDAR
VERSION:2.0
PRODID:-//Єврейський Культурний Центр “Бейт Дан” - ECPv6.15.13.1//NONSGML v1.0//EN
CALSCALE:GREGORIAN
METHOD:PUBLISH
X-WR-CALNAME:Єврейський Культурний Центр “Бейт Дан”
X-ORIGINAL-URL:https://beitdan.org.ua
X-WR-CALDESC:Події за Єврейський Культурний Центр “Бейт Дан”
REFRESH-INTERVAL;VALUE=DURATION:PT1H
X-Robots-Tag:noindex
X-PUBLISHED-TTL:PT1H
BEGIN:VTIMEZONE
TZID:Europe/Moscow
BEGIN:STANDARD
TZOFFSETFROM:+0300
TZOFFSETTO:+0300
TZNAME:MSK
DTSTART:20210101T000000
END:STANDARD
END:VTIMEZONE
BEGIN:VEVENT
DTSTART;TZID=Europe/Moscow:20220302T183000
DTEND;TZID=Europe/Moscow:20220302T203000
DTSTAMP:20260422T202329
CREATED:20220222T085733Z
LAST-MODIFIED:20220222T085733Z
UID:3615-1646245800-1646253000@beitdan.org.ua
SUMMARY:"Дамський клуб"
DESCRIPTION:
URL:https://beitdan.org.ua/calendar/damskyj-klub/
CATEGORIES:Для дорослих
ATTACH;FMTTYPE=image/jpeg:https://beitdan.org.ua/wp-content/uploads/2022/02/hello-fashion-4-scaled.jpg
END:VEVENT
BEGIN:VEVENT
DTSTART;TZID=Europe/Moscow:20220306T130000
DTEND;TZID=Europe/Moscow:20220306T150000
DTSTAMP:20260422T202329
CREATED:20220222T095407Z
LAST-MODIFIED:20220222T095920Z
UID:3631-1646571600-1646578800@beitdan.org.ua
SUMMARY:Семінар для батьків дітей проекту "Арайот Юніор"
DESCRIPTION:
URL:https://beitdan.org.ua/calendar/seminar-dlya-batkiv-ditej-proektu-arajot-yunior/
CATEGORIES:Для дорослих
ATTACH;FMTTYPE=image/jpeg:https://beitdan.org.ua/wp-content/uploads/2022/02/dyzajn-bez-nazvanyya-5.jpg
END:VEVENT
BEGIN:VEVENT
DTSTART;TZID=Europe/Moscow:20220306T130000
DTEND;TZID=Europe/Moscow:20220306T153000
DTSTAMP:20260422T202329
CREATED:20220222T091935Z
LAST-MODIFIED:20220222T092105Z
UID:3627-1646571600-1646580600@beitdan.org.ua
SUMMARY:У кіно з підлітками "Арайот"
DESCRIPTION:
URL:https://beitdan.org.ua/calendar/u-kino-z-pidlitkamy-arajot/
CATEGORIES:Для підлітків
ATTACH;FMTTYPE=image/jpeg:https://beitdan.org.ua/wp-content/uploads/2022/02/hello-fashion-5-1.jpg
END:VEVENT
END:VCALENDAR