BEGIN:VCALENDAR
VERSION:2.0
PRODID:-//Єврейський Культурний Центр “Бейт Дан” - ECPv6.15.13.1//NONSGML v1.0//EN
CALSCALE:GREGORIAN
METHOD:PUBLISH
X-ORIGINAL-URL:https://beitdan.org.ua
X-WR-CALDESC:Події за Єврейський Культурний Центр “Бейт Дан”
REFRESH-INTERVAL;VALUE=DURATION:PT1H
X-Robots-Tag:noindex
X-PUBLISHED-TTL:PT1H
BEGIN:VTIMEZONE
TZID:Europe/Moscow
BEGIN:STANDARD
TZOFFSETFROM:+0300
TZOFFSETTO:+0300
TZNAME:MSK
DTSTART:20210101T000000
END:STANDARD
END:VTIMEZONE
BEGIN:VEVENT
DTSTART;TZID=Europe/Moscow:20220630T190000
DTEND;TZID=Europe/Moscow:20220630T200000
DTSTAMP:20260422T232732
CREATED:20220620T193434Z
LAST-MODIFIED:20220916T232004Z
UID:3859-1656615600-1656619200@beitdan.org.ua
SUMMARY:Zoom-зустріч "Назад у майбутнє"
DESCRIPTION:Zoom-зустріч «Назад у майбутнє»
URL:https://beitdan.org.ua/calendar/zoom-zustrich-nazad-u-majbutnye/
CATEGORIES:Для дорослих,Для підлітків
ATTACH;FMTTYPE=image/jpeg:https://beitdan.org.ua/wp-content/uploads/2022/06/vstrecha-lagerej-v-zoom.jpg
END:VEVENT
END:VCALENDAR