BEGIN:VCALENDAR
VERSION:2.0
PRODID:-//Єврейський Культурний Центр “Бейт Дан” - ECPv6.15.13.1//NONSGML v1.0//EN
CALSCALE:GREGORIAN
METHOD:PUBLISH
X-ORIGINAL-URL:https://beitdan.org.ua
X-WR-CALDESC:Події за Єврейський Культурний Центр “Бейт Дан”
REFRESH-INTERVAL;VALUE=DURATION:PT1H
X-Robots-Tag:noindex
X-PUBLISHED-TTL:PT1H
BEGIN:VTIMEZONE
TZID:Europe/Moscow
BEGIN:STANDARD
TZOFFSETFROM:+0300
TZOFFSETTO:+0300
TZNAME:MSK
DTSTART:20220101T000000
END:STANDARD
END:VTIMEZONE
BEGIN:VEVENT
DTSTART;TZID=Europe/Moscow:20230504T160000
DTEND;TZID=Europe/Moscow:20230504T180000
DTSTAMP:20260423T092611
CREATED:20230501T143725Z
LAST-MODIFIED:20230501T143725Z
UID:4974-1683216000-1683223200@beitdan.org.ua
SUMMARY:Майстер-клас до Лаг ба Омеру для підлітків
DESCRIPTION:
URL:https://beitdan.org.ua/calendar/majster-klas-do-lag-ba-omeru-dlya-pidlitkiv/
CATEGORIES:Для підлітків
END:VEVENT
BEGIN:VEVENT
DTSTART;TZID=Europe/Moscow:20230507T130000
DTEND;TZID=Europe/Moscow:20230507T160000
DTSTAMP:20260423T092611
CREATED:20230501T144142Z
LAST-MODIFIED:20230501T144602Z
UID:4976-1683464400-1683475200@beitdan.org.ua
SUMMARY:Общинний Лаг ба Омер
DESCRIPTION:
URL:https://beitdan.org.ua/calendar/obshhynnyj-lag-ba-omer/
CATEGORIES:Дитячі заходи,Для дорослих,Для молоді,Для підлітків
ATTACH;FMTTYPE=image/jpeg:https://beitdan.org.ua/wp-content/uploads/2023/05/lag-ba-omer-2023-gor.jpg
END:VEVENT
BEGIN:VEVENT
DTSTART;TZID=Europe/Moscow:20230511T180000
DTEND;TZID=Europe/Moscow:20230511T200000
DTSTAMP:20260423T092611
CREATED:20230502T194712Z
LAST-MODIFIED:20230515T174050Z
UID:5010-1683828000-1683835200@beitdan.org.ua
SUMMARY:Арт
DESCRIPTION:
URL:https://beitdan.org.ua/calendar/art/
CATEGORIES:Для дорослих,Для молоді
ATTACH;FMTTYPE=image/jpeg:https://beitdan.org.ua/wp-content/uploads/2023/05/art-studyya.jpg
END:VEVENT
BEGIN:VEVENT
DTSTART;TZID=Europe/Moscow:20230512T173000
DTEND;TZID=Europe/Moscow:20230512T173000
DTSTAMP:20260423T092611
CREATED:20230501T145830Z
LAST-MODIFIED:20230516T113101Z
UID:4979-1683912600-1683912600@beitdan.org.ua
SUMMARY:Кулінарний Общинний Шабат
DESCRIPTION:
URL:https://beitdan.org.ua/calendar/kulinarnyj-obshhynnyj-shabat/
CATEGORIES:Для дорослих,Для молоді
ATTACH;FMTTYPE=image/jpeg:https://beitdan.org.ua/wp-content/uploads/2023/05/kulynarnyj-shabat.jpg
END:VEVENT
BEGIN:VEVENT
DTSTART;TZID=Europe/Moscow:20230514T143000
DTEND;TZID=Europe/Moscow:20230514T143000
DTSTAMP:20260423T092611
CREATED:20230502T105720Z
LAST-MODIFIED:20230516T113949Z
UID:5002-1684074600-1684074600@beitdan.org.ua
SUMMARY:Зустріч підлітків у місті "Ролики"
DESCRIPTION:
URL:https://beitdan.org.ua/calendar/zustrich-pidlitkiv-u-misti-rolyky/
CATEGORIES:Для підлітків
ATTACH;FMTTYPE=image/jpeg:https://beitdan.org.ua/wp-content/uploads/2023/05/rolyky-1.jpg
END:VEVENT
BEGIN:VEVENT
DTSTART;TZID=Europe/Moscow:20230516T090000
DTEND;TZID=Europe/Moscow:20230516T190000
DTSTAMP:20260423T092611
CREATED:20230502T103814Z
LAST-MODIFIED:20230517T195506Z
UID:4998-1684227600-1684263600@beitdan.org.ua
SUMMARY:"Kids Hub"
DESCRIPTION:Вже у травні ми відкриваємо набір в освітні групи для школярів молодших і середніх класів. З нами ваша дитина отримує тьюторський супровід шкільних online занять\, технічну підтримку від спеціалістів та живе спілкування з однолітками.\nПо буднях\, після шкільних занять є програми на вибір: \n                     \n  \n \n  \nНедільна школа:\n– неформальні заняття з єврейської культури і традиції;\n– STEAM (science\, technology\, engineering\, art\, mathematics). \n  \nМи керуємося принципами неформальної освіти: приймаємо дітей такими\, які вони є і допомагаємо кожному розкритись у його сильних сторонах.
URL:https://beitdan.org.ua/calendar/kids-hub/
CATEGORIES:Для підлітків
ATTACH;FMTTYPE=image/png:https://beitdan.org.ua/wp-content/uploads/2023/05/kh-main-1-1.png
END:VEVENT
BEGIN:VEVENT
DTSTART;TZID=Europe/Moscow:20230518T180000
DTEND;TZID=Europe/Moscow:20230518T200000
DTSTAMP:20260423T092611
CREATED:20230502T111738Z
LAST-MODIFIED:20230516T105842Z
UID:5006-1684432800-1684440000@beitdan.org.ua
SUMMARY:Освітня зустріч для дорослих "Криза в роботі в умовах війни"
DESCRIPTION:Запрошуємо вас на нашу наступну зустріч для дорослих\, присвячену темі “Криза в роботі в умовах війни”?\nНа цій зустрічі ми обговоримо\, як війна впливає на роботу та її ефективність\, які виклики стають перед працівниками в цей період\, та які стратегії можуть допомогти виправити ситуацію. \nМи впевнені\, що це буде цікава та практична зустріч для всіх\, хто працює в умовах кризи та війни?\nШукайте реєстрацію в сторіс: \nhttps://www.instagram.com/p/CsGaHmatgKT/?igshid=MzRlODBiNWFlZA%3D%3D \nЧекаємо на вас 18 травня о 18:00?
URL:https://beitdan.org.ua/calendar/osvitnya-zustrich-dlya-doroslyh-kryza-v-roboti-v-umovah-vijny/
CATEGORIES:Для дорослих
ATTACH;FMTTYPE=image/jpeg:https://beitdan.org.ua/wp-content/uploads/2023/05/kryzys-1-1.jpg
END:VEVENT
BEGIN:VEVENT
DTSTART;TZID=Europe/Moscow:20230521T120000
DTEND;TZID=Europe/Moscow:20230521T150000
DTSTAMP:20260423T092611
CREATED:20230508T111558Z
LAST-MODIFIED:20230523T200406Z
UID:5040-1684670400-1684681200@beitdan.org.ua
SUMMARY:Захід для дітей до свята Шавуот
DESCRIPTION:
URL:https://beitdan.org.ua/calendar/zahid-dlya-ditej-do-svyata-shavuot/
CATEGORIES:Дитячі заходи
ATTACH;FMTTYPE=image/png:https://beitdan.org.ua/wp-content/uploads/2023/05/shavuot-dlya-detej-2023-1.png
END:VEVENT
BEGIN:VEVENT
DTSTART;TZID=Europe/Moscow:20230521T143000
DTEND;TZID=Europe/Moscow:20230521T160000
DTSTAMP:20260423T092611
CREATED:20230508T111139Z
LAST-MODIFIED:20230516T113611Z
UID:5036-1684679400-1684684800@beitdan.org.ua
SUMMARY:Освітня зустріч для підлітків
DESCRIPTION:
URL:https://beitdan.org.ua/calendar/osvitnya-zustrich-dlya-pidlitkiv/
CATEGORIES:Для підлітків
ATTACH;FMTTYPE=image/jpeg:https://beitdan.org.ua/wp-content/uploads/2023/05/mental-health-instagram-template.jpg
END:VEVENT
BEGIN:VEVENT
DTSTART;TZID=Europe/Moscow:20230521T170000
DTEND;TZID=Europe/Moscow:20230521T170000
DTSTAMP:20260423T092611
CREATED:20230508T111345Z
LAST-MODIFIED:20230516T112347Z
UID:5038-1684688400-1684688400@beitdan.org.ua
SUMMARY:Бранч для дорослих до Шавуоту
DESCRIPTION:
URL:https://beitdan.org.ua/calendar/branch-dlya-doroslyh-do-shavuotu/
CATEGORIES:Виїзні заходи,Для дорослих
ATTACH;FMTTYPE=image/jpeg:https://beitdan.org.ua/wp-content/uploads/2023/05/branch.jpg
END:VEVENT
BEGIN:VEVENT
DTSTART;TZID=Europe/Moscow:20230524T180000
DTEND;TZID=Europe/Moscow:20230524T200000
DTSTAMP:20260423T092611
CREATED:20230508T111750Z
LAST-MODIFIED:20230516T112531Z
UID:5042-1684951200-1684958400@beitdan.org.ua
SUMMARY:Волонтерська акція для людей поважного віку (Шавуот)
DESCRIPTION:
URL:https://beitdan.org.ua/calendar/volonterska-akcziya-dlya-lyudej-pohylogo-viku-shavuot/
CATEGORIES:Для дорослих
ATTACH;FMTTYPE=image/jpeg:https://beitdan.org.ua/wp-content/uploads/2023/05/fruktovyj-buket.jpg
END:VEVENT
BEGIN:VEVENT
DTSTART;TZID=Europe/Moscow:20230528T120000
DTEND;TZID=Europe/Moscow:20230528T120000
DTSTAMP:20260423T092611
CREATED:20230508T112018Z
LAST-MODIFIED:20230524T090822Z
UID:5046-1685275200-1685275200@beitdan.org.ua
SUMMARY:Общинний Шавуот
DESCRIPTION:
URL:https://beitdan.org.ua/calendar/obshhynnyj-shavuot/
CATEGORIES:Дитячі заходи,Для дорослих,Для молоді,Для підлітків
ATTACH;FMTTYPE=image/jpeg:https://beitdan.org.ua/wp-content/uploads/2023/05/shavuot-2023-1.jpg
END:VEVENT
BEGIN:VEVENT
DTSTART;TZID=Europe/Moscow:20230531T180000
DTEND;TZID=Europe/Moscow:20230531T200000
DTSTAMP:20260423T092611
CREATED:20230508T111851Z
LAST-MODIFIED:20230524T113003Z
UID:5044-1685556000-1685563200@beitdan.org.ua
SUMMARY:Арт до Шавуоту
DESCRIPTION:Що може бути актуальним вже 3335 років?\n\nЯкщо цікаво\, тоді вам варто відвідати нашу Арт Студію\, адже окрім цікавої дискусії на вас також чекає майстер клас з каліграфії!\n\n31 травня о 18:00 дуже чекаємо на вас!\nБлагодійний внесок за участь 150 грн.\n\n\nЗареєструватись можна тут: https://docs.google.com/…/1FAIpQLSertcmCG0…/formResponse \nТільки подивіться\, яку красу можна буде зробити \n\n                               
URL:https://beitdan.org.ua/calendar/art-do-shavuotu/
CATEGORIES:Для дорослих
ATTACH;FMTTYPE=image/jpeg:https://beitdan.org.ua/wp-content/uploads/2023/05/art-31.05.23-kvadr-1.jpg
END:VEVENT
END:VCALENDAR