BEGIN:VCALENDAR
VERSION:2.0
PRODID:-//Єврейський Культурний Центр “Бейт Дан” - ECPv6.15.13.1//NONSGML v1.0//EN
CALSCALE:GREGORIAN
METHOD:PUBLISH
X-ORIGINAL-URL:https://beitdan.org.ua
X-WR-CALDESC:Події за Єврейський Культурний Центр “Бейт Дан”
REFRESH-INTERVAL;VALUE=DURATION:PT1H
X-Robots-Tag:noindex
X-PUBLISHED-TTL:PT1H
BEGIN:VTIMEZONE
TZID:Europe/Moscow
BEGIN:STANDARD
TZOFFSETFROM:+0300
TZOFFSETTO:+0300
TZNAME:MSK
DTSTART:20220101T000000
END:STANDARD
END:VTIMEZONE
BEGIN:VEVENT
DTSTART;VALUE=DATE:20230625
DTEND;VALUE=DATE:20230703
DTSTAMP:20260423T125905
CREATED:20230501T140634Z
LAST-MODIFIED:20230524T121116Z
UID:4966-1687651200-1688342399@beitdan.org.ua
SUMMARY:Сімейний табір "Бейт Дан"
DESCRIPTION:Хто сумував за активним літнім відпочинком подалі від міста? \n\nУ нас є гаряча пропозиція для усієї родини!\nМи відкриваємо реєстрацію на єврейський сімейний табір Бейт Дан у Карпатах!!!\n\n\nПропонуємо вам активно та корисно провести час у компанії єврейської спільноти та команди\, яка зробить ваш відпочинок класним на 100%. На вас чекають творчі майстер класи\, активні ігри біля басейну\, квести\, екскурсії та запальні вечірні заходи!\n\n\n\nКоли: 25 червня – 2 липня\nДля кого: Єврейські сім’ї з дітьми\nДе: Івано-Франківська обл.\n\n\n\nЗверніть увагу\, щоб підтвердити участь\, потрібно зареєструватись (кожного члена родини треба реєструвати окремо):\n\n\nhttps://docs.google.com/…/1FAIpQLSfIiKh7D54…/viewform…\n\n\n\nУсі питання за телефоном (093) 311-31-50
URL:https://beitdan.org.ua/calendar/simejnyj-tabir-bejt-dan/
LOCATION:Івано-Франківська обл.\, Івано-Франківська обл.\, Украина
CATEGORIES:Виїзні заходи,Дитячі заходи,Для дорослих,Для молоді,Для підлітків
ATTACH;FMTTYPE=image/jpeg:https://beitdan.org.ua/wp-content/uploads/2023/05/semejnyj-lager-2023-1.jpg
END:VEVENT
BEGIN:VEVENT
DTSTART;VALUE=DATE:20230710
DTEND;VALUE=DATE:20230717
DTSTAMP:20260423T125905
CREATED:20230501T142327Z
LAST-MODIFIED:20230501T142455Z
UID:4968-1688947200-1689551999@beitdan.org.ua
SUMMARY:Канікулярна програма "Бейт Дан"
DESCRIPTION:
URL:https://beitdan.org.ua/calendar/kanikulyarna-programa-bejt-dan/
CATEGORIES:Для підлітків
ATTACH;FMTTYPE=image/jpeg:https://beitdan.org.ua/wp-content/uploads/2021/08/img_0950.jpg
END:VEVENT
BEGIN:VEVENT
DTSTART;VALUE=DATE:20230718
DTEND;VALUE=DATE:20230724
DTSTAMP:20260423T125905
CREATED:20230501T142754Z
LAST-MODIFIED:20230712T155859Z
UID:4970-1689638400-1690156799@beitdan.org.ua
SUMMARY:Молодіжний табір "On The Wave"
DESCRIPTION:Якщо ти ще вагаєшся\, чи їхати на On the wave\, чи ні…  Поїхали❗️❗️❗️ Це знак!! Бо ми дуже чекаємо на тебе серед 100 своїх однодумців✡️ На тебе чекають Карпати\, офігезна програма і нові друзі ?‍♂️ ?Коли?: 18-23 липня ?Де?: Карпати\, Івано-Франківська область ??Для кого?: Єврейська молодь 18+  Питання можеш задати у особисті повідомлення\, а реєстрація тут https://bit.ly/OnTheWave ❤️‍?
URL:https://beitdan.org.ua/calendar/molodizhnyj-tabir-on-the-wave/
LOCATION:Карпати\, Івано-Франківська обл.\, Украина
CATEGORIES:Для молоді
ATTACH;FMTTYPE=image/jpeg:https://beitdan.org.ua/wp-content/uploads/2023/05/on-the-wave-2023.jpg
END:VEVENT
BEGIN:VEVENT
DTSTART;VALUE=DATE:20230731
DTEND;VALUE=DATE:20230807
DTSTAMP:20260423T125905
CREATED:20230501T143014Z
LAST-MODIFIED:20230501T143014Z
UID:4972-1690761600-1691366399@beitdan.org.ua
SUMMARY:Канікулярна програма "Бейт Дан"
DESCRIPTION:
URL:https://beitdan.org.ua/calendar/kanikulyarna-programa-bejt-dan-2/
CATEGORIES:Для підлітків
ATTACH;FMTTYPE=image/jpeg:https://beitdan.org.ua/wp-content/uploads/2021/08/img_0950.jpg
END:VEVENT
END:VCALENDAR